BEGIN:VCALENDAR
VERSION:2.0
PRODID:-//pretix//pretix.eu//
BEGIN:VTIMEZONE
TZID:Europe/Berlin
BEGIN:STANDARD
DTSTART:20001029T040000
RRULE:FREQ=YEARLY;BYDAY=-1SU;BYMONTH=10
TZNAME:CET
TZOFFSETFROM:+0200
TZOFFSETTO:+0100
END:STANDARD
BEGIN:DAYLIGHT
DTSTART:20000326T030000
RRULE:FREQ=YEARLY;BYDAY=-1SU;BYMONTH=3
TZNAME:CEST
TZOFFSETFROM:+0100
TZOFFSETTO:+0200
END:DAYLIGHT
END:VTIMEZONE
BEGIN:VEVENT
UID:pretix-cyberlago-wissenaufabruf26-0@tickets.cyberlago.net
DTSTART;TZID=Europe/Berlin:20260616T173000
DTEND;TZID=Europe/Berlin:20260616T203000
DESCRIPTION:Tickets: https://tickets.cyberlago.net/wissenaufabruf26/\nOrgan
 izer: cyberLAGO e.V.
DTSTAMP:20260423T040650Z
LOCATION:Michlhof\, Ober'm Stadtweiher 36\, 87435 Kempten (Allgäu)
SUMMARY:Wissen auf Abruf: Wie Unternehmen ihre Datenbasis für KI zugängli
 ch machen
END:VEVENT
END:VCALENDAR
